BEGIN:VCALENDAR
VERSION:2.0
PRODID:-//Plone.org//NONSGML plone.app.event//EN
X-WR-TIMEZONE:Europe/Madrid
BEGIN:VEVENT
SUMMARY:Presentació del llibre: Arrels i sobretot Ales: Memòries d'un emprenedor obert al món
DTSTART;TZID=Europe/Madrid;VALUE=DATE-TIME:20130405T190000
DTEND;TZID=Europe/Madrid;VALUE=DATE-TIME:20130405T200000
DTSTAMP;VALUE=DATE-TIME:20260423T133617Z
UID:02bae1ba2293d233d3ac2a259980216a
CREATED;VALUE=DATE-TIME:20130405T000000Z
CATEGORIES:Literatura
LOCATION:Biblioteca
URL:https://www.canetdemar.cat/document.php?id=9988
END:VEVENT
END:VCALENDAR