BEGIN:VCALENDAR
VERSION:2.0
PRODID:-//Plone.org//NONSGML plone.app.event//EN
X-WR-TIMEZONE:Europe/Madrid
BEGIN:VEVENT
SUMMARY:Ball a l'Esplai
DTSTART;TZID=Europe/Madrid;VALUE=DATE-TIME:20130113T180000
DTEND;TZID=Europe/Madrid;VALUE=DATE-TIME:20130113T190000
DTSTAMP;VALUE=DATE-TIME:20260422T143932Z
UID:847a0141799eaf138bbddcd963936e84
CREATED;VALUE=DATE-TIME:20130113T000000Z
LOCATION:Vall 24
ORGANIZER:Esplai Gent 3.0
URL:https://www.canetdemar.cat/document.php?id=9977
END:VEVENT
END:VCALENDAR