BEGIN:VCALENDAR
VERSION:2.0
PRODID:-//Plone.org//NONSGML plone.app.event//EN
X-WR-TIMEZONE:Europe/Madrid
BEGIN:VEVENT
SUMMARY:Classe gratuïta de Pilates
DTSTART;TZID=Europe/Madrid;VALUE=DATE-TIME:20130109T100000
DTEND;TZID=Europe/Madrid;VALUE=DATE-TIME:20130109T110000
DTSTAMP;VALUE=DATE-TIME:20260422T092054Z
UID:3fe44dbb32ff16d3e31876164925f0a1
CREATED;VALUE=DATE-TIME:20130109T000000Z
CATEGORIES:Esports,Cursos
LOCATION:Sisè Sentit Pilates i Dansa
ORGANIZER:Gemma Galera i Sisè Sentit
COMMENT:Preu: gratuït
DESCRIPTION:Pilates Mat
URL:https://www.canetdemar.cat/document.php?id=9975
END:VEVENT
END:VCALENDAR