BEGIN:VCALENDAR
VERSION:2.0
PRODID:-//Plone.org//NONSGML plone.app.event//EN
X-WR-TIMEZONE:Europe/Madrid
BEGIN:VEVENT
SUMMARY:Hora del conte
DTSTART;TZID=Europe/Madrid;VALUE=DATE-TIME:20130126T120000
DTEND;TZID=Europe/Madrid;VALUE=DATE-TIME:20130126T130000
DTSTAMP;VALUE=DATE-TIME:20260423T014114Z
UID:553b7a262dabc097720df35ec74eadca
CREATED;VALUE=DATE-TIME:20130126T000000Z
CATEGORIES:Infantils
LOCATION:Biblioteca
ORGANIZER:Biblioteca P. Gual i Pujadas
DESCRIPTION:contes per a menuts
URL:https://www.canetdemar.cat/document.php?id=9968
END:VEVENT
END:VCALENDAR