BEGIN:VCALENDAR
VERSION:2.0
PRODID:-//Plone.org//NONSGML plone.app.event//EN
X-WR-TIMEZONE:Europe/Madrid
BEGIN:VEVENT
SUMMARY:Ruta modernista. Centre històric i Casa museu
DTSTART;TZID=Europe/Madrid;VALUE=DATE-TIME:20130105T110000
DTEND;TZID=Europe/Madrid;VALUE=DATE-TIME:20130105T120000
DTSTAMP;VALUE=DATE-TIME:20260425T151613Z
UID:662c0c12787baf5931ae42875a8c6712
CREATED;VALUE=DATE-TIME:20130105T000000Z
LOCATION:Casa museu
ORGANIZER:Casa museu Lluís Domènech i Montaner
COMMENT:Preu: 7 euros. Jubilats i estudiants, 6 euros. Menors de 12 anys gratuït
URL:https://www.canetdemar.cat/document.php?id=9952
END:VEVENT
END:VCALENDAR