BEGIN:VCALENDAR
VERSION:2.0
PRODID:-//Plone.org//NONSGML plone.app.event//EN
X-WR-TIMEZONE:Europe/Madrid
BEGIN:VEVENT
SUMMARY:Taller d'Higiene alimentària
DTSTART;TZID=Europe/Madrid;VALUE=DATE-TIME:20121220T090000
DTEND;TZID=Europe/Madrid;VALUE=DATE-TIME:20121220T100000
DTSTAMP;VALUE=DATE-TIME:20260424T161506Z
UID:9eb5bc52b6300cfbd950c2f2c7767ae4
CREATED;VALUE=DATE-TIME:20121220T000000Z
URL:https://www.canetdemar.cat/document.php?id=9948
END:VEVENT
END:VCALENDAR