BEGIN:VCALENDAR
VERSION:2.0
PRODID:-//Plone.org//NONSGML plone.app.event//EN
X-WR-TIMEZONE:Europe/Madrid
BEGIN:VEVENT
SUMMARY:VI Festival de Música Clàssica Castell de Santa Florentina
DTSTART;TZID=Europe/Madrid;VALUE=DATE-TIME:20040814T220000
DTEND;TZID=Europe/Madrid;VALUE=DATE-TIME:20040814T230000
DTSTAMP;VALUE=DATE-TIME:20260425T141430Z
UID:5b9213e7c9a8a46417ea27091f0fb850
CREATED;VALUE=DATE-TIME:20040814T000000Z
URL:https://www.canetdemar.cat/document.php?id=988
END:VEVENT
END:VCALENDAR