BEGIN:VCALENDAR
VERSION:2.0
PRODID:-//Plone.org//NONSGML plone.app.event//EN
X-WR-TIMEZONE:Europe/Madrid
BEGIN:VEVENT
SUMMARY:Anem al teatre: Ball de titelles
DTSTART;TZID=Europe/Madrid;VALUE=DATE-TIME:20130116T183000
DTEND;TZID=Europe/Madrid;VALUE=DATE-TIME:20130116T193000
DTSTAMP;VALUE=DATE-TIME:20260423T133151Z
UID:f66aebbbdc2f9349f478aafb0874dd60
CREATED;VALUE=DATE-TIME:20130116T000000Z
LOCATION:Parada bus Comediants
ORGANIZER:Àrea de Cultura
COMMENT:Preu: 31 euros
URL:https://www.canetdemar.cat/document.php?id=9831
END:VEVENT
END:VCALENDAR