BEGIN:VCALENDAR
VERSION:2.0
PRODID:-//Plone.org//NONSGML plone.app.event//EN
X-WR-TIMEZONE:Europe/Madrid
BEGIN:VEVENT
SUMMARY:VI Festival de Música Clàssica Castell de Santa Florentina
DTSTART;TZID=Europe/Madrid;VALUE=DATE-TIME:20040710T220000
DTEND;TZID=Europe/Madrid;VALUE=DATE-TIME:20040710T230000
DTSTAMP;VALUE=DATE-TIME:20260423T100836Z
UID:8b4fae66f59b4c31478d7f431e57ef01
CREATED;VALUE=DATE-TIME:20040710T000000Z
URL:https://www.canetdemar.cat/document.php?id=982
END:VEVENT
END:VCALENDAR