BEGIN:VCALENDAR
VERSION:2.0
PRODID:-//Plone.org//NONSGML plone.app.event//EN
X-WR-TIMEZONE:Europe/Madrid
BEGIN:VEVENT
SUMMARY:Sardanes amb la Cobla Ciutat de Mataró
DTSTART;TZID=Europe/Madrid;VALUE=DATE-TIME:20040807T220000
DTEND;TZID=Europe/Madrid;VALUE=DATE-TIME:20040807T230000
DTSTAMP;VALUE=DATE-TIME:20260423T045729Z
UID:9de44ec8b1ed40b3e97208980a3c94df
CREATED;VALUE=DATE-TIME:20040807T000000Z
URL:https://www.canetdemar.cat/document.php?id=979
END:VEVENT
END:VCALENDAR