BEGIN:VCALENDAR
VERSION:2.0
PRODID:-//Plone.org//NONSGML plone.app.event//EN
X-WR-TIMEZONE:Europe/Madrid
BEGIN:VEVENT
SUMMARY:Les 12 campanades
DTSTART;TZID=Europe/Madrid;VALUE=DATE-TIME:20121231T235900
DTEND;TZID=Europe/Madrid;VALUE=DATE-TIME:20130101T005900
DTSTAMP;VALUE=DATE-TIME:20260423T030433Z
UID:15795673f846d6071c6fe5efb2f75e32
CREATED;VALUE=DATE-TIME:20121231T000000Z
URL:https://www.canetdemar.cat/document.php?id=9779
END:VEVENT
END:VCALENDAR