BEGIN:VCALENDAR
VERSION:2.0
PRODID:-//Plone.org//NONSGML plone.app.event//EN
X-WR-TIMEZONE:Europe/Madrid
BEGIN:VEVENT
SUMMARY:Fira de Santa Llúcia
DTSTART;TZID=Europe/Madrid;VALUE=DATE-TIME:20121215T100000
DTEND;TZID=Europe/Madrid;VALUE=DATE-TIME:20121215T110000
DTSTAMP;VALUE=DATE-TIME:20260426T001506Z
UID:c852cc1f536464d586187365dcd6f5e9
CREATED;VALUE=DATE-TIME:20121215T000000Z
LOCATION:riera Sant Domènec
ORGANIZER:Àrea de Festes
COMMENT:Durada: de 10.00 a 21.00 hores
URL:https://www.canetdemar.cat/document.php?id=9763
END:VEVENT
END:VCALENDAR