BEGIN:VCALENDAR
VERSION:2.0
PRODID:-//Plone.org//NONSGML plone.app.event//EN
X-WR-TIMEZONE:Europe/Madrid
BEGIN:VEVENT
SUMMARY:Excursió a Vallderobres
DTSTART;TZID=Europe/Madrid;VALUE=DATE-TIME:20121219T063000
DTEND;TZID=Europe/Madrid;VALUE=DATE-TIME:20121219T073000
DTSTAMP;VALUE=DATE-TIME:20260424T175736Z
UID:be4a6162348aa8dd8d6f46335467ed93
CREATED;VALUE=DATE-TIME:20121219T000000Z
LOCATION:Esplai Gent 3.0, carrer Vall 24
ORGANIZER:Esplai Gent 3.0
COMMENT:Preu: 40 euros
URL:https://www.canetdemar.cat/document.php?id=9664
END:VEVENT
END:VCALENDAR