BEGIN:VCALENDAR
VERSION:2.0
PRODID:-//Plone.org//NONSGML plone.app.event//EN
X-WR-TIMEZONE:Europe/Madrid
BEGIN:VEVENT
SUMMARY:Cinema a la fresca: "Troya"
DTSTART;TZID=Europe/Madrid;VALUE=DATE-TIME:20040702T220000
DTEND;TZID=Europe/Madrid;VALUE=DATE-TIME:20040702T230000
DTSTAMP;VALUE=DATE-TIME:20260422T164129Z
UID:46dd8b3af414a6f40f66116d8c727c44
CREATED;VALUE=DATE-TIME:20040702T000000Z
URL:https://www.canetdemar.cat/document.php?id=966
END:VEVENT
END:VCALENDAR