BEGIN:VCALENDAR
VERSION:2.0
PRODID:-//Plone.org//NONSGML plone.app.event//EN
X-WR-TIMEZONE:Europe/Madrid
BEGIN:VEVENT
SUMMARY:Subhasta de les obres del IV concurs de pintura golfa
DTSTART;TZID=Europe/Madrid;VALUE=DATE-TIME:20040711T190000
DTEND;TZID=Europe/Madrid;VALUE=DATE-TIME:20040711T200000
DTSTAMP;VALUE=DATE-TIME:20260422T111312Z
UID:86d2bd84e254a181fa17d5fdafcfab76
CREATED;VALUE=DATE-TIME:20040711T000000Z
URL:https://www.canetdemar.cat/document.php?id=964
END:VEVENT
END:VCALENDAR