BEGIN:VCALENDAR
VERSION:2.0
PRODID:-//Plone.org//NONSGML plone.app.event//EN
X-WR-TIMEZONE:Europe/Madrid
BEGIN:VEVENT
SUMMARY:Taller d'escriptura creativa
DTSTART;TZID=Europe/Madrid;VALUE=DATE-TIME:20121210T190000
DTEND;TZID=Europe/Madrid;VALUE=DATE-TIME:20121210T200000
DTSTAMP;VALUE=DATE-TIME:20260423T115746Z
UID:7215d84416d3076918bfdf432f45928f
CREATED;VALUE=DATE-TIME:20121210T000000Z
LOCATION:Biblioteca
ORGANIZER:Àrea de Cultura
URL:https://www.canetdemar.cat/document.php?id=9624
END:VEVENT
END:VCALENDAR