BEGIN:VCALENDAR
VERSION:2.0
PRODID:-//Plone.org//NONSGML plone.app.event//EN
X-WR-TIMEZONE:Europe/Madrid
BEGIN:VEVENT
SUMMARY:Passatge del terror. T'atreveixes a entrar?
DTSTART;TZID=Europe/Madrid;VALUE=DATE-TIME:20121110T193000
DTEND;TZID=Europe/Madrid;VALUE=DATE-TIME:20121110T203000
DTSTAMP;VALUE=DATE-TIME:20260422T164013Z
UID:50fca7ce3fd63b8773859aa1d4f98761
CREATED;VALUE=DATE-TIME:20121110T000000Z
LOCATION:Plaça Universitat
ORGANIZER:Quina Guassa. Hi col·laboren Quim Disco Mòbil i Ajuntament de Canet de Mar
COMMENT:Preu: 2 euros (inclou berenar)
URL:https://www.canetdemar.cat/document.php?id=9612
END:VEVENT
END:VCALENDAR