BEGIN:VCALENDAR
VERSION:2.0
PRODID:-//Plone.org//NONSGML plone.app.event//EN
X-WR-TIMEZONE:Europe/Madrid
BEGIN:VEVENT
SUMMARY:Festa Country mensual
DTSTART;TZID=Europe/Madrid;VALUE=DATE-TIME:20121110T223000
DTEND;TZID=Europe/Madrid;VALUE=DATE-TIME:20121110T233000
DTSTAMP;VALUE=DATE-TIME:20260422T143651Z
UID:193d37460242a65540b91ebe577b7efe
CREATED;VALUE=DATE-TIME:20121110T000000Z
CATEGORIES:Dansa
LOCATION:Envelat de Vil·la Flora
ORGANIZER:Cor Country
COMMENT:Preu: 6&euro; amb consumició mínima inclosa
DESCRIPTION:Ensenyament de noves coreografíes
URL:https://www.canetdemar.cat/document.php?id=9549
END:VEVENT
END:VCALENDAR