BEGIN:VCALENDAR
VERSION:2.0
PRODID:-//Plone.org//NONSGML plone.app.event//EN
X-WR-TIMEZONE:Europe/Madrid
BEGIN:VEVENT
SUMMARY:Ball a l'Esplai
DTSTART;TZID=Europe/Madrid;VALUE=DATE-TIME:20121104T180000
DTEND;TZID=Europe/Madrid;VALUE=DATE-TIME:20121104T190000
DTSTAMP;VALUE=DATE-TIME:20260423T132711Z
UID:97836740b6f7ba232eb6937fe95925cf
CREATED;VALUE=DATE-TIME:20121104T000000Z
LOCATION:Esplai Gent 3.0, carrer Vall 24
ORGANIZER:Esplai Gent 3.0
URL:https://www.canetdemar.cat/document.php?id=9542
END:VEVENT
END:VCALENDAR