BEGIN:VCALENDAR
VERSION:2.0
PRODID:-//Plone.org//NONSGML plone.app.event//EN
X-WR-TIMEZONE:Europe/Madrid
BEGIN:VEVENT
SUMMARY:Tots Sants a l'Esplai
DTSTART;TZID=Europe/Madrid;VALUE=DATE-TIME:20121101T170000
DTEND;TZID=Europe/Madrid;VALUE=DATE-TIME:20121101T180000
DTSTAMP;VALUE=DATE-TIME:20260422T034053Z
UID:5c58a1b083b662dd037e7d2534fb60c1
CREATED;VALUE=DATE-TIME:20121101T000000Z
LOCATION:Esplai Gent 3.0, carrer Vall 24
ORGANIZER:Esplai Gent 3.0
URL:https://www.canetdemar.cat/document.php?id=9541
END:VEVENT
END:VCALENDAR