BEGIN:VCALENDAR
VERSION:2.0
PRODID:-//Plone.org//NONSGML plone.app.event//EN
X-WR-TIMEZONE:Europe/Madrid
BEGIN:VEVENT
SUMMARY:Xerrada: Bolets i territori als massissos del Montseny i del Montnegre
DTSTART;TZID=Europe/Madrid;VALUE=DATE-TIME:20121103T190000
DTEND;TZID=Europe/Madrid;VALUE=DATE-TIME:20121103T200000
DTSTAMP;VALUE=DATE-TIME:20260422T232026Z
UID:79b7a6f9d863d423b2319382ac3705d2
CREATED;VALUE=DATE-TIME:20121103T000000Z
LOCATION:plaça Macià
ORGANIZER:Òmnium Cultural Montnegre-Mataró Maresme
DESCRIPTION:Dins dels actes organitzats per la festa del Bolet
URL:https://www.canetdemar.cat/document.php?id=9513
END:VEVENT
END:VCALENDAR