BEGIN:VCALENDAR
VERSION:2.0
PRODID:-//Plone.org//NONSGML plone.app.event//EN
X-WR-TIMEZONE:Europe/Madrid
BEGIN:VEVENT
SUMMARY:Taller d'escriptura creativa
DTSTART;TZID=Europe/Madrid;VALUE=DATE-TIME:20121112T070000
DTEND;TZID=Europe/Madrid;VALUE=DATE-TIME:20121112T080000
DTSTAMP;VALUE=DATE-TIME:20260422T091953Z
UID:f5be5e9ee7ff475670c784f9afb5893d
CREATED;VALUE=DATE-TIME:20121112T000000Z
CATEGORIES:Literatura
LOCATION:Biblioteca
URL:https://www.canetdemar.cat/document.php?id=9504
END:VEVENT
END:VCALENDAR