BEGIN:VCALENDAR
VERSION:2.0
PRODID:-//Plone.org//NONSGML plone.app.event//EN
X-WR-TIMEZONE:Europe/Madrid
BEGIN:VEVENT
SUMMARY:Documental: Operació Garzón. 20 anys després
DTSTART;TZID=Europe/Madrid;VALUE=DATE-TIME:20121011T203000
DTEND;TZID=Europe/Madrid;VALUE=DATE-TIME:20121011T213000
DTSTAMP;VALUE=DATE-TIME:20260421T123845Z
UID:b2e7105d59d4af78bb1e1f632767e7c6
CREATED;VALUE=DATE-TIME:20121011T000000Z
LOCATION:Biblioteca
ORGANIZER:Ateneu Independentista Canet decideix! i Esquerra Canet de Mar
URL:https://www.canetdemar.cat/document.php?id=9453
END:VEVENT
END:VCALENDAR