BEGIN:VCALENDAR
VERSION:2.0
PRODID:-//Plone.org//NONSGML plone.app.event//EN
X-WR-TIMEZONE:Europe/Madrid
BEGIN:VEVENT
SUMMARY:Taller: Introducció a la màgia
DTSTART;TZID=Europe/Madrid;VALUE=DATE-TIME:20121108T190000
DTEND;TZID=Europe/Madrid;VALUE=DATE-TIME:20121108T200000
DTSTAMP;VALUE=DATE-TIME:20260421T210226Z
UID:1aacc71be5dd8de877f4389e12aa69b9
CREATED;VALUE=DATE-TIME:20121108T000000Z
LOCATION:Associació de dones Sàlvia, plaça Manén s/n
ORGANIZER:Associació de dones Sàlvia
COMMENT:Preu: 40 euros sòcies i familiars
Durada: els dijous 8, 15, 22 i 29 de novembre de 19.00 a 21.00 hores
URL:https://www.canetdemar.cat/document.php?id=9451
END:VEVENT
END:VCALENDAR