BEGIN:VCALENDAR
VERSION:2.0
PRODID:-//Plone.org//NONSGML plone.app.event//EN
X-WR-TIMEZONE:Europe/Madrid
BEGIN:VEVENT
SUMMARY:Jornada de portes obertes del centre Caní de Pedracastell
DTSTART;TZID=Europe/Madrid;VALUE=DATE-TIME:20121007T100000
DTEND;TZID=Europe/Madrid;VALUE=DATE-TIME:20121007T110000
DTSTAMP;VALUE=DATE-TIME:20260424T010346Z
UID:f76a8a2701da095ec8a63de5c64cad6f
CREATED;VALUE=DATE-TIME:20121007T000000Z
LOCATION:rial Teixoneres s/n - Canet de Mar
ORGANIZER:centre Caní de Pedracastell
COMMENT:Durada: de 10.00 a 13.00 hores
URL:https://www.canetdemar.cat/document.php?id=9438
END:VEVENT
END:VCALENDAR