BEGIN:VCALENDAR
VERSION:2.0
PRODID:-//Plone.org//NONSGML plone.app.event//EN
X-WR-TIMEZONE:Europe/Madrid
BEGIN:VEVENT
SUMMARY:Lliurament de premis IX Certamen Popular premis Sàlvia de Poesia 2012
DTSTART;TZID=Europe/Madrid;VALUE=DATE-TIME:20121021T120000
DTEND;TZID=Europe/Madrid;VALUE=DATE-TIME:20121021T130000
DTSTAMP;VALUE=DATE-TIME:20260421T144650Z
UID:611178263723b807475ee51da1c51c86
CREATED;VALUE=DATE-TIME:20121021T000000Z
LOCATION:Plaça Manén
COMMENT:Preu: GratuIt
URL:https://www.canetdemar.cat/document.php?id=9410
END:VEVENT
END:VCALENDAR