BEGIN:VCALENDAR
VERSION:2.0
PRODID:-//Plone.org//NONSGML plone.app.event//EN
X-WR-TIMEZONE:Europe/Madrid
BEGIN:VEVENT
SUMMARY:Ruta Modernista: Centre històric i Casa museu
DTSTART;TZID=Europe/Madrid;VALUE=DATE-TIME:20121103T110000
DTEND;TZID=Europe/Madrid;VALUE=DATE-TIME:20121103T120000
DTSTAMP;VALUE=DATE-TIME:20260425T193912Z
UID:d32c22612440d7219636108ebc847e00
CREATED;VALUE=DATE-TIME:20121103T000000Z
LOCATION:Casa museu Lluís Domènech i Motaner
COMMENT:Preu: 7 euros, jubilats i estudiants 6 euros, menors de 12 anys gratuït
Durada: Casa museu Lluís Domènech i Montaner
URL:https://www.canetdemar.cat/document.php?id=9406
END:VEVENT
END:VCALENDAR