BEGIN:VCALENDAR
VERSION:2.0
PRODID:-//Plone.org//NONSGML plone.app.event//EN
X-WR-TIMEZONE:Europe/Madrid
BEGIN:VEVENT
SUMMARY:Singles fest (Activitat suspesa)
DTSTART;TZID=Europe/Madrid;VALUE=DATE-TIME:20121006T190000
DTEND;TZID=Europe/Madrid;VALUE=DATE-TIME:20121006T200000
DTSTAMP;VALUE=DATE-TIME:20260423T120620Z
UID:29f562864393308d92f5a308d492cfb6
CREATED;VALUE=DATE-TIME:20121006T000000Z
LOCATION:Envelat de Vil·la Flora, riera Gavarra s/n
ORGANIZER:Consell Municipal de Cooperació
DESCRIPTION:En comptes del Singles fest, es convoca a Mataró: Vine a fer l'indi
URL:https://www.canetdemar.cat/document.php?id=9400
END:VEVENT
END:VCALENDAR