BEGIN:VCALENDAR
VERSION:2.0
PRODID:-//Plone.org//NONSGML plone.app.event//EN
X-WR-TIMEZONE:Europe/Madrid
BEGIN:VEVENT
SUMMARY:Sortida: Tossa de Mar. Gran festa de la gent gran
DTSTART;TZID=Europe/Madrid;VALUE=DATE-TIME:20121024T000000
DTEND;TZID=Europe/Madrid;VALUE=DATE-TIME:20121024T010000
DTSTAMP;VALUE=DATE-TIME:20260426T000812Z
UID:f1bd90b72b67b1a099951c94f8d66faa
CREATED;VALUE=DATE-TIME:20121024T000000Z
ORGANIZER:Esplai gent 3.0
COMMENT:Durada: del 24 al 27 d'octubre
URL:https://www.canetdemar.cat/document.php?id=9394
END:VEVENT
END:VCALENDAR