BEGIN:VCALENDAR
VERSION:2.0
PRODID:-//Plone.org//NONSGML plone.app.event//EN
X-WR-TIMEZONE:Europe/Madrid
BEGIN:VEVENT
SUMMARY:Anem al Teatre: Toc Toc (transtorn obsessiu compulsiu)
DTSTART;TZID=Europe/Madrid;VALUE=DATE-TIME:20121024T190000
DTEND;TZID=Europe/Madrid;VALUE=DATE-TIME:20121024T200000
DTSTAMP;VALUE=DATE-TIME:20260425T003525Z
UID:ad10f68c2b230ed9a70acbb1eeb70b17
CREATED;VALUE=DATE-TIME:20121024T000000Z
LOCATION:parada bus Comediants
ORGANIZER:Àrea de Cultura
COMMENT:Preu: 29 euros
URL:https://www.canetdemar.cat/document.php?id=9352
END:VEVENT
END:VCALENDAR