BEGIN:VCALENDAR
VERSION:2.0
PRODID:-//Plone.org//NONSGML plone.app.event//EN
X-WR-TIMEZONE:Europe/Madrid
BEGIN:VEVENT
SUMMARY:Ball a l'Esplai
DTSTART;TZID=Europe/Madrid;VALUE=DATE-TIME:20120911T180000
DTEND;TZID=Europe/Madrid;VALUE=DATE-TIME:20120911T190000
DTSTAMP;VALUE=DATE-TIME:20260423T033855Z
UID:cd48ace7c3fea846f30777adbb3a3f22
CREATED;VALUE=DATE-TIME:20120911T000000Z
LOCATION:Esplai Gent 3.0. Carrer Vall 24
ORGANIZER:Esplai Gent 3.0
URL:https://www.canetdemar.cat/document.php?id=9318
END:VEVENT
END:VCALENDAR