BEGIN:VCALENDAR
VERSION:2.0
PRODID:-//Plone.org//NONSGML plone.app.event//EN
X-WR-TIMEZONE:Europe/Madrid
BEGIN:VEVENT
SUMMARY:Conferència: La llengua de signes catalana, una altra llengua pròpia de Catalunya a càrrec de la lingüista Celia Alba
DTSTART;TZID=Europe/Madrid;VALUE=DATE-TIME:20121123T191500
DTEND;TZID=Europe/Madrid;VALUE=DATE-TIME:20121123T201500
DTSTAMP;VALUE=DATE-TIME:20260422T073251Z
UID:31bf6a708c88a9cf602e6d7cdd176c24
CREATED;VALUE=DATE-TIME:20121123T000000Z
CATEGORIES:Conferència
LOCATION:Biblioteca
ORGANIZER:Plataforma per la Llengua Canet de Mar
COMMENT:Preu: Gratuït
DESCRIPTION:Cloenda del Correllengua 2012 a Canet de Mar
URL:https://www.canetdemar.cat/document.php?id=9221
END:VEVENT
END:VCALENDAR