BEGIN:VCALENDAR
VERSION:2.0
PRODID:-//Plone.org//NONSGML plone.app.event//EN
X-WR-TIMEZONE:Europe/Madrid
BEGIN:VEVENT
SUMMARY:1r Torneig vòlei platja 4x4
DTSTART;TZID=Europe/Madrid;VALUE=DATE-TIME:20120714T100000
DTEND;TZID=Europe/Madrid;VALUE=DATE-TIME:20120714T110000
DTSTAMP;VALUE=DATE-TIME:20260424T070311Z
UID:f26ecdbb9ad5eaf7aca9e7dfd0c236f5
CREATED;VALUE=DATE-TIME:20120714T000000Z
LOCATION:A la platja davant l'estació de RENFE
ORGANIZER:TriEsport Canet i la secció de Canet de Mar de la Plataforma per la Llengua Maresme
COMMENT:Preu: inscripció: 10 euros per persona
URL:https://www.canetdemar.cat/document.php?id=9201
END:VEVENT
END:VCALENDAR