BEGIN:VCALENDAR
VERSION:2.0
PRODID:-//Plone.org//NONSGML plone.app.event//EN
X-WR-TIMEZONE:Europe/Madrid
BEGIN:VEVENT
SUMMARY:Sardinada Popular
DTSTART;TZID=Europe/Madrid;VALUE=DATE-TIME:20120910T210000
DTEND;TZID=Europe/Madrid;VALUE=DATE-TIME:20120910T220000
DTSTAMP;VALUE=DATE-TIME:20260421T155809Z
UID:b04b2685ddaf95df5b64f7e88ca84998
CREATED;VALUE=DATE-TIME:20120910T000000Z
CATEGORIES:Festa
LOCATION:Plaça 11 de Setembre
ORGANIZER:Agrupació Local del PSC de Canet
URL:https://www.canetdemar.cat/document.php?id=9198
END:VEVENT
END:VCALENDAR