BEGIN:VCALENDAR
VERSION:2.0
PRODID:-//Plone.org//NONSGML plone.app.event//EN
X-WR-TIMEZONE:Europe/Madrid
BEGIN:VEVENT
SUMMARY:Gran festa de comiat ESO i Batxillerat
DTSTART;TZID=Europe/Madrid;VALUE=DATE-TIME:20120627T180000
DTEND;TZID=Europe/Madrid;VALUE=DATE-TIME:20120627T190000
DTSTAMP;VALUE=DATE-TIME:20260422T221822Z
UID:2525f58fd76a7f33a8e1296f88db51a7
CREATED;VALUE=DATE-TIME:20120627T000000Z
LOCATION:Envelat de Vil·la Flora
ORGANIZER:AMPA IES Domènech i Montaner
COMMENT:Preu: sopar 3 euros (pizza + refresc)
URL:https://www.canetdemar.cat/document.php?id=9171
END:VEVENT
END:VCALENDAR