BEGIN:VCALENDAR
VERSION:2.0
PRODID:-//Plone.org//NONSGML plone.app.event//EN
X-WR-TIMEZONE:Europe/Madrid
BEGIN:VEVENT
SUMMARY:Tradicional concert de Festa Major
DTSTART;TZID=Europe/Madrid;VALUE=DATE-TIME:20120629T200000
DTEND;TZID=Europe/Madrid;VALUE=DATE-TIME:20120629T210000
DTSTAMP;VALUE=DATE-TIME:20260424T102746Z
UID:56cbedfd1c633f6aeca1f9222b145646
CREATED;VALUE=DATE-TIME:20120629T000000Z
LOCATION:plaça Universitat
ORGANIZER:Àrea de Festes
DESCRIPTION:Festa Major 2012
URL:https://www.canetdemar.cat/document.php?id=9144
END:VEVENT
END:VCALENDAR