BEGIN:VCALENDAR
VERSION:2.0
PRODID:-//Plone.org//NONSGML plone.app.event//EN
X-WR-TIMEZONE:Europe/Madrid
BEGIN:VEVENT
SUMMARY:Ruta modernista: Centre històric i Masia Rocosa
DTSTART;TZID=Europe/Madrid;VALUE=DATE-TIME:20120707T110000
DTEND;TZID=Europe/Madrid;VALUE=DATE-TIME:20120707T120000
DTSTAMP;VALUE=DATE-TIME:20260425T204503Z
UID:e2afd91a29b6d6bc24a576e2ad947b5b
CREATED;VALUE=DATE-TIME:20120707T000000Z
LOCATION:Casa museu Lluís Domènech i Montaner
ORGANIZER:Casa museu Lluís Domènech i Montaner
URL:https://www.canetdemar.cat/document.php?id=9124
END:VEVENT
END:VCALENDAR