BEGIN:VCALENDAR
VERSION:2.0
PRODID:-//Plone.org//NONSGML plone.app.event//EN
X-WR-TIMEZONE:Europe/Madrid
BEGIN:VEVENT
SUMMARY:XVI Musclada Popular
DTSTART;TZID=Europe/Madrid;VALUE=DATE-TIME:20120707T180000
DTEND;TZID=Europe/Madrid;VALUE=DATE-TIME:20120707T190000
DTSTAMP;VALUE=DATE-TIME:20260423T202923Z
UID:4ce0b2eb5736535835a8fd04f6620d86
CREATED;VALUE=DATE-TIME:20120707T000000Z
LOCATION:riera Sant Domènec
ORGANIZER:Moixons Llepafils
DESCRIPTION:Festa Major 2012
URL:https://www.canetdemar.cat/document.php?id=9116
END:VEVENT
END:VCALENDAR