BEGIN:VCALENDAR
VERSION:2.0
PRODID:-//Plone.org//NONSGML plone.app.event//EN
X-WR-TIMEZONE:Europe/Madrid
BEGIN:VEVENT
SUMMARY:Postulació del càncer
DTSTART;TZID=Europe/Madrid;VALUE=DATE-TIME:20120707T000000
DTEND;TZID=Europe/Madrid;VALUE=DATE-TIME:20120707T010000
DTSTAMP;VALUE=DATE-TIME:20260424T195235Z
UID:afb2a0923dcd37fac2670bc92f3b78eb
CREATED;VALUE=DATE-TIME:20120707T000000Z
ORGANIZER:Associació de Lluita Contra el Càncer
COMMENT:Durada: durant tot el dia
DESCRIPTION:Festa Major 2012
URL:https://www.canetdemar.cat/document.php?id=9114
END:VEVENT
END:VCALENDAR