BEGIN:VCALENDAR
VERSION:2.0
PRODID:-//Plone.org//NONSGML plone.app.event//EN
X-WR-TIMEZONE:Europe/Madrid
BEGIN:VEVENT
SUMMARY:Teatre: La Majòrica
DTSTART;TZID=Europe/Madrid;VALUE=DATE-TIME:20120701T213000
DTEND;TZID=Europe/Madrid;VALUE=DATE-TIME:20120701T223000
DTSTAMP;VALUE=DATE-TIME:20260423T183406Z
UID:338c33a569accb4c03efa89bf23aea5c
CREATED;VALUE=DATE-TIME:20120701T000000Z
LOCATION:plaça Universitat
ORGANIZER:Secció Dramàtica del Centre parroquial
DESCRIPTION:Festa Major 2012
URL:https://www.canetdemar.cat/document.php?id=9112
END:VEVENT
END:VCALENDAR