BEGIN:VCALENDAR
VERSION:2.0
PRODID:-//Plone.org//NONSGML plone.app.event//EN
X-WR-TIMEZONE:Europe/Madrid
BEGIN:VEVENT
SUMMARY:Festa de la Proclamació de la Pubilla, l'Hereu, la Pubilleta i l'Hereuet 2012
DTSTART;TZID=Europe/Madrid;VALUE=DATE-TIME:20120701T193000
DTEND;TZID=Europe/Madrid;VALUE=DATE-TIME:20120701T203000
DTSTAMP;VALUE=DATE-TIME:20260423T221952Z
UID:67fa486df052b7ceaaeea8838b662c5b
CREATED;VALUE=DATE-TIME:20120701T000000Z
LOCATION:riera Sant Domènec
ORGANIZER:Àrea de Festes
DESCRIPTION:Festa Major 2012
URL:https://www.canetdemar.cat/document.php?id=9107
END:VEVENT
END:VCALENDAR