BEGIN:VCALENDAR
VERSION:2.0
PRODID:-//Plone.org//NONSGML plone.app.event//EN
X-WR-TIMEZONE:Europe/Madrid
BEGIN:VEVENT
SUMMARY:Jugem amb energia (repensem el model energètic)
DTSTART;TZID=Europe/Madrid;VALUE=DATE-TIME:20120628T180000
DTEND;TZID=Europe/Madrid;VALUE=DATE-TIME:20120628T190000
DTSTAMP;VALUE=DATE-TIME:20260422T032741Z
UID:001a977f066cef31a2272bc1cb9e8a79
CREATED;VALUE=DATE-TIME:20120628T000000Z
LOCATION:plaça Universitat
ORGANIZER:Àrea de Medi Ambient
COMMENT:Durada: de 18.00 a 20.00 hores
DESCRIPTION:Setmana de l'Energia 2012
URL:https://www.canetdemar.cat/document.php?id=9077
END:VEVENT
END:VCALENDAR