BEGIN:VCALENDAR
VERSION:2.0
PRODID:-//Plone.org//NONSGML plone.app.event//EN
X-WR-TIMEZONE:Europe/Madrid
BEGIN:VEVENT
SUMMARY:Sortida al programa d'Antena 3 Ahora Caigo
DTSTART;TZID=Europe/Madrid;VALUE=DATE-TIME:20120621T140000
DTEND;TZID=Europe/Madrid;VALUE=DATE-TIME:20120621T150000
DTSTAMP;VALUE=DATE-TIME:20260423T202823Z
UID:8ab50a7ddbd56fe2709e513e3bfcb1eb
CREATED;VALUE=DATE-TIME:20120621T000000Z
LOCATION:Parada bus Comediants
COMMENT:Preu: Gratuït
URL:https://www.canetdemar.cat/document.php?id=9069
END:VEVENT
END:VCALENDAR