BEGIN:VCALENDAR
VERSION:2.0
PRODID:-//Plone.org//NONSGML plone.app.event//EN
X-WR-TIMEZONE:Europe/Madrid
BEGIN:VEVENT
SUMMARY:14ena Tradicional Sardinada blanca
DTSTART;TZID=Europe/Madrid;VALUE=DATE-TIME:20120707T000000
DTEND;TZID=Europe/Madrid;VALUE=DATE-TIME:20120707T010000
DTSTAMP;VALUE=DATE-TIME:20260425T041000Z
UID:8f66e230cb6e10cc114585839b80eccc
CREATED;VALUE=DATE-TIME:20120707T000000Z
LOCATION:Instal·lacions del Club
ORGANIZER:Club Mar i Vent Canet
URL:https://www.canetdemar.cat/document.php?id=9056
END:VEVENT
END:VCALENDAR