BEGIN:VCALENDAR
VERSION:2.0
PRODID:-//Plone.org//NONSGML plone.app.event//EN
X-WR-TIMEZONE:Europe/Madrid
BEGIN:VEVENT
SUMMARY:Presentació de l'Associació per la Cardioprotecció
DTSTART;TZID=Europe/Madrid;VALUE=DATE-TIME:20120613T193000
DTEND;TZID=Europe/Madrid;VALUE=DATE-TIME:20120613T203000
DTSTAMP;VALUE=DATE-TIME:20260424T094305Z
UID:425570b0ec64bb52a304448f383948f5
CREATED;VALUE=DATE-TIME:20120613T000000Z
CATEGORIES:Conferència
LOCATION:Biblioteca
URL:https://www.canetdemar.cat/document.php?id=9052
END:VEVENT
END:VCALENDAR