BEGIN:VCALENDAR
VERSION:2.0
PRODID:-//Plone.org//NONSGML plone.app.event//EN
X-WR-TIMEZONE:Europe/Madrid
BEGIN:VEVENT
SUMMARY:Sortida al Delta de l'Ebre i Sant Carles de la Ràpita
DTSTART;TZID=Europe/Madrid;VALUE=DATE-TIME:20120627T080000
DTEND;TZID=Europe/Madrid;VALUE=DATE-TIME:20120627T090000
DTSTAMP;VALUE=DATE-TIME:20260422T182718Z
UID:7227c8d18272683051550ec1a79ea342
CREATED;VALUE=DATE-TIME:20120627T000000Z
LOCATION:Parada de bus de Comediants
ORGANIZER:Espai Caixa Gent 3.0
COMMENT:Preu: 40 euros
URL:https://www.canetdemar.cat/document.php?id=9036
END:VEVENT
END:VCALENDAR