BEGIN:VCALENDAR
VERSION:2.0
PRODID:-//Plone.org//NONSGML plone.app.event//EN
X-WR-TIMEZONE:Europe/Madrid
BEGIN:VEVENT
SUMMARY:Jornada de portes obertes als Garrofers
DTSTART;TZID=Europe/Madrid;VALUE=DATE-TIME:20120517T100000
DTEND;TZID=Europe/Madrid;VALUE=DATE-TIME:20120517T110000
DTSTAMP;VALUE=DATE-TIME:20260423T082848Z
UID:1b62356d5cf00fcb7941538d093b76fc
CREATED;VALUE=DATE-TIME:20120517T000000Z
ORGANIZER:Fundació Els Garrofers
URL:https://www.canetdemar.cat/document.php?id=8968
END:VEVENT
END:VCALENDAR