BEGIN:VCALENDAR
VERSION:2.0
PRODID:-//Plone.org//NONSGML plone.app.event//EN
X-WR-TIMEZONE:Europe/Madrid
BEGIN:VEVENT
SUMMARY:II Festival de Fi de Curs
DTSTART;TZID=Europe/Madrid;VALUE=DATE-TIME:20120527T180000
DTEND;TZID=Europe/Madrid;VALUE=DATE-TIME:20120527T190000
DTSTAMP;VALUE=DATE-TIME:20260425T003833Z
UID:42ff1e0f5ed2ca307aab847139dec034
CREATED;VALUE=DATE-TIME:20120527T000000Z
CATEGORIES:Dansa
LOCATION:Envelat de Vil·la Flora
COMMENT:Preu: 5 &euro; els majors de 12 anys
DESCRIPTION:a càrrec de l'Escola de Dansa Natalia Prior
URL:https://www.canetdemar.cat/document.php?id=8948
END:VEVENT
END:VCALENDAR