BEGIN:VCALENDAR
VERSION:2.0
PRODID:-//Plone.org//NONSGML plone.app.event//EN
X-WR-TIMEZONE:Europe/Madrid
BEGIN:VEVENT
SUMMARY:Presentació del llibre Quan succeeix l'inesperat
DTSTART;TZID=Europe/Madrid;VALUE=DATE-TIME:20120509T193000
DTEND;TZID=Europe/Madrid;VALUE=DATE-TIME:20120509T203000
DTSTAMP;VALUE=DATE-TIME:20260424T094147Z
UID:7645d543cdae52ac32955d284c3c699c
CREATED;VALUE=DATE-TIME:20120509T000000Z
CATEGORIES:Conferència
LOCATION:Biblioteca P. Gual i Pujadas
ORGANIZER:PSC, Esquerra, Entesa per Canet
DESCRIPTION:Xerrada amb Ferran Pedret, autor d'aquest llibre sobre el 15-M i l'esquerra
URL:https://www.canetdemar.cat/document.php?id=8939
END:VEVENT
END:VCALENDAR