BEGIN:VCALENDAR
VERSION:2.0
PRODID:-//Plone.org//NONSGML plone.app.event//EN
X-WR-TIMEZONE:Europe/Madrid
BEGIN:VEVENT
SUMMARY:Curs d'iniciació a la cuina
DTSTART;TZID=Europe/Madrid;VALUE=DATE-TIME:20040511T215300
DTEND;TZID=Europe/Madrid;VALUE=DATE-TIME:20040511T225300
DTSTAMP;VALUE=DATE-TIME:20260423T183205Z
UID:d493be0b0a4432f1fd218012dbc00b2f
CREATED;VALUE=DATE-TIME:20040511T000000Z
URL:https://www.canetdemar.cat/document.php?id=893
END:VEVENT
END:VCALENDAR